BEGIN:VCALENDAR
VERSION:2.0
PRODID:-//ChamberMaster//Event Calendar 2.0//EN
METHOD:PUBLISH
X-PUBLISHED-TTL:P3D
REFRESH-INTERVAL:P3D
CALSCALE:GREGORIAN
BEGIN:VEVENT
DTSTART:20260509T150000Z
DTEND:20260509T180000Z
X-MICROSOFT-CDO-ALLDAYEVENT:FALSE
SUMMARY:19th Annual Picnic in the Garden
DESCRIPTION:During our 19th annual Picnic in the Garden on Saturday\, May 9\, the Pecan Grove will be filled with pony rides\, face painting\, and yard games for all ages. Visitors will also enjoy the beautiful sounds of live music. Prizes will be awarded to those with the best picnic spreads. If you would like to participate in the picnic spread contest\, pick up an entry number upon arrival for the picnic from 11am to 12pm. Winners will be announced at 12:30pm. Picnic in the Garden will begin at 11am and last until 2pm. Admission to the garden is free to anyone who brings a picnic basket and blanket.
X-ALT-DESC;FMTTYPE=text/html:During our 19th annual Picnic in the Garden on Saturday\, May 9\, the Pecan Grove will be filled with pony rides\, face painting\, and yard games for all ages. Visitors will also enjoy the beautiful sounds of live music. Prizes will be awarded to those with the best picnic spreads. If you would like to participate in the picnic spread contest\, pick up an entry number upon arrival for the picnic from 11am to 12pm. Winners will be announced at 12:30pm. Picnic in the Garden will begin at 11am and last until 2pm. Admission to the garden is free to anyone who brings a picnic basket and blanket.
LOCATION:Hills & Dales Estate 1916 Hills & Dales Drive
UID:e.1275.13084
SEQUENCE:3
DTSTAMP:20260423T122832Z
URL:https://business.lagrangechamber.com/events/details/19th-annual-picnic-in-the-garden-13084
END:VEVENT

END:VCALENDAR
