BEGIN:VCALENDAR
VERSION:2.0
PRODID:-//ChamberMaster//Event Calendar 2.0//EN
METHOD:PUBLISH
X-PUBLISHED-TTL:P3D
REFRESH-INTERVAL:P3D
CALSCALE:GREGORIAN
BEGIN:VEVENT
DTSTART:20190621T120000Z
DTEND:20190621T220000Z
X-MICROSOFT-CDO-ALLDAYEVENT:FALSE
SUMMARY:Anniversary and Ribbon Cutting: WOAK Radio
DESCRIPTION:Friday\, June 21 marks 35 years since WOAK went on the air!\n\n\n\nCome celebrate with us throughout the day (8 am - 6 pm) during our OPEN HOUSE. There will be a ribbon cutting at 11:45  to usher in the next phase of WOAK's ministry.\n\n\n\nMeet the WOAK Team. Enjoy free food (while supplies last) during the day!
X-ALT-DESC;FMTTYPE=text/html:<br />\n<span style="font-family:verdana\;"><span style="color: rgb(29\, 33\, 41)\; font-size: 14px\; white-space: pre-wrap\;">Friday\, June 21 marks 35 years since WOAK went on the air!<br />\n<br />\nCome celebrate with us throughout the day (8 am - 6 pm) during our OPEN HOUSE. There will be a ribbon cutting at <em><strong>11:45 </strong></em> to usher in the next phase of WOAK&#39\;s ministry.<br />\n<br />\nMeet the WOAK Team. Enjoy free food (while supplies last) during the day!</span></span>
LOCATION:1921 Hamilton Road LaGrange\, GA 30240
UID:e.1275.5336
SEQUENCE:3
DTSTAMP:20260424T035526Z
URL:https://business.lagrangechamber.com/events/details/anniversary-and-ribbon-cutting-woak-radio-5336
END:VEVENT

END:VCALENDAR
