BEGIN:VCALENDAR
VERSION:2.0
PRODID:-//ChamberMaster//Event Calendar 2.0//EN
METHOD:PUBLISH
X-PUBLISHED-TTL:P3D
REFRESH-INTERVAL:P3D
CALSCALE:GREGORIAN
BEGIN:VEVENT
DTSTART:20200415T150000Z
DTEND:20200415T170000Z
X-MICROSOFT-CDO-ALLDAYEVENT:FALSE
SUMMARY:Annual BBQ fundraiser for Bellevue
DESCRIPTION:The LaGrange Woman's Club will hold it's annual BBQ on Wednesday\, April 15\, 2020 from 11:00 to 1:00. The BBQ will be supplied by Hog Heaven and an individual plate can be picked up that day in the parking lot. If 3 or more plates are ordered from the same location\, they can be delivered.
X-ALT-DESC;FMTTYPE=text/html:The LaGrange Woman&#39\;s Club will hold it&#39\;s annual BBQ on Wednesday\, April 15\, 2020 from 11:00 to 1:00. The BBQ will be supplied by Hog Heaven and an individual plate can be picked up that day in the parking lot. If 3 or more plates are ordered from the same location\, they can be delivered.
LOCATION:Bellevue parking lot\, 204 Ben Hill Street
UID:e.1275.8596
SEQUENCE:3
DTSTAMP:20260420T135330Z
URL:https://business.lagrangechamber.com/events/details/annual-bbq-fundraiser-for-bellevue-8596
END:VEVENT

END:VCALENDAR
