BEGIN:VCALENDAR
VERSION:2.0
PRODID:-//ChamberMaster//Event Calendar 2.0//EN
METHOD:PUBLISH
X-PUBLISHED-TTL:P3D
REFRESH-INTERVAL:P3D
CALSCALE:GREGORIAN
BEGIN:VEVENT
DTSTART:20260710T140000Z
DTEND:20260710T150000Z
X-MICROSOFT-CDO-ALLDAYEVENT:FALSE
SUMMARY:Children’s Summer Activity III: What Can I Be? The Many Uses of Plants
DESCRIPTION:This year's Children's Summer Activities will feature beloved local storytellers Mama Jama and Natalie Jones as well as fun and artistic plant-based activities. These events take place in the Pecan Grove or Visitor Center and are free for children ages 13 and under\, $5 per adult. Member discount does not apply. For more information\, please email info@hillsanddales.org or call (706) 882-3242. Children's Summer Activity Schedule: June 12   Children's Summer Activity I: Storytime with Mama Jama 26   Children's Summer Activity II: Stories with Natalie Jones July 10   Children's Summer Activity III: What Can I Be? The Many Uses of Plants 24   Children's Summer Activity IV: Paper Flower Crafts
X-ALT-DESC;FMTTYPE=text/html:This year&rsquo\;s Children&rsquo\;s Summer Activities will feature beloved local storytellers Mama Jama and Natalie Jones as well as fun and artistic plant-based activities. These events take place in the Pecan Grove or Visitor Center and are free for children ages 13 and under\, $5 per adult. Member discount does not apply. For more information\, please email info@hillsanddales.org or call (706) 882-3242. Children&rsquo\;s Summer Activity Schedule: June 12 &ndash\; Children&rsquo\;s Summer Activity I: Storytime with Mama Jama 26 &ndash\; Children&rsquo\;s Summer Activity II: Stories with Natalie Jones July 10 &ndash\; Children&rsquo\;s Summer Activity III: What Can I Be? The Many Uses of Plants 24 &ndash\; Children&rsquo\;s Summer Activity IV: Paper Flower Crafts
LOCATION:Hills & Dales Estate 1916 Hills & Dales Drive
UID:e.1275.13089
SEQUENCE:3
DTSTAMP:20260423T151620Z
URL:https://business.lagrangechamber.com/events/details/children-s-summer-activity-iii-what-can-i-be-the-many-uses-of-plants-13089
END:VEVENT

END:VCALENDAR
