BEGIN:VCALENDAR
VERSION:2.0
PRODID:-//ChamberMaster//Event Calendar 2.0//EN
METHOD:PUBLISH
X-PUBLISHED-TTL:P3D
REFRESH-INTERVAL:P3D
CALSCALE:GREGORIAN
BEGIN:VEVENT
DTSTART:20200205T140000Z
DTEND:20200205T180000Z
X-MICROSOFT-CDO-ALLDAYEVENT:FALSE
SUMMARY:Emotional Intelligence
DESCRIPTION:EI is the ability to understand one's own feelings and that of groups and how these emotions can influence motivation and behavior. Define and practice self-management\, self-awareness\, self-regulation\, self-motivation and empathy. Learn to relate emotional intelligence to the workplace\, balance optimism and pessimism. Effectively impact others. Great training for employers\, employees and general public.
X-ALT-DESC;FMTTYPE=text/html:EI is the ability to understand one&#39\;s own feelings and that of groups and how these emotions can influence motivation and behavior. Define and practice self-management\, self-awareness\, self-regulation\, self-motivation and empathy. Learn to relate emotional intelligence to the workplace\, balance optimism and pessimism. Effectively impact others. Great training for employers\, employees and general public.
LOCATION:West Georgia Technical College - East Campus\, Bldg D\, next door to the Callaway Conference Center. 220 Fort Drive\, Bldg D\, Lagrange\, GA
UID:e.1275.8642
SEQUENCE:3
DTSTAMP:20260422T065740Z
URL:https://business.lagrangechamber.com/events/details/emotional-intelligence-8642
END:VEVENT

END:VCALENDAR
