BEGIN:VCALENDAR
VERSION:2.0
PRODID:-//ChamberMaster//Event Calendar 2.0//EN
METHOD:PUBLISH
X-PUBLISHED-TTL:P3D
REFRESH-INTERVAL:P3D
CALSCALE:GREGORIAN
BEGIN:VEVENT
DTSTART:20200310T140000Z
DTEND:20200411T210000Z
X-MICROSOFT-CDO-ALLDAYEVENT:FALSE
SUMMARY:Follow the Cross Walks
DESCRIPTION:Join us for this special tour offered only during the Easter season\, from March 10   April 11. Follow the Cross Walks focus on the last week of Jesus' life on earth. The tour will begin on Palm Sunday and end after resurrection. The tours can be scheduled to take place with a Biblical Meal. Pricing Without the Meal: $20 per adult | $15 per child (ages 6-12) Pricing With the Meal: $40 per adult | $25 per child (ages 6-12) Below you will find our booking options for the Garden and Gallery Tours as well as the Biblical Meal Package. If you book for one of these tours between March 10   April 11\, then you will receive a Follow the Cross Walk.
X-ALT-DESC;FMTTYPE=text/html:Join us for this special tour offered only during the Easter season\, from March 10 &ndash\; April 11. Follow the Cross Walks focus on the last week of Jesus&rsquo\; life on earth. The tour will begin on Palm Sunday and end after resurrection. The tours can be scheduled to take place with a Biblical Meal. Pricing Without the Meal: $20 per adult | $15 per child (ages 6-12) Pricing With the Meal: $40 per adult | $25 per child (ages 6-12) Below you will find our booking options for the Garden and Gallery Tours as well as the Biblical Meal Package. If you book for one of these tours between March 10 &ndash\; April 11\, then you will receive a Follow the Cross Walk.
LOCATION:130 Gordon Commercial Drive
UID:e.1275.9996
SEQUENCE:3
DTSTAMP:20260420T043128Z
URL:https://business.lagrangechamber.com/events/details/follow-the-cross-walks-03-10-2020-9996
END:VEVENT

END:VCALENDAR
