BEGIN:VCALENDAR
VERSION:2.0
PRODID:-//ChamberMaster//Event Calendar 2.0//EN
METHOD:PUBLISH
X-PUBLISHED-TTL:P3D
REFRESH-INTERVAL:P3D
CALSCALE:GREGORIAN
BEGIN:VEVENT
DTSTART:20260715T140000Z
DTEND:20260716T003000Z
X-MICROSOFT-CDO-ALLDAYEVENT:FALSE
SUMMARY:Founder’s Day Celebration & Storytelling
DESCRIPTION:On Wednesday\, July 15\, we will be celebrating Fuller Callaway Sr.'s 156th birthday with complimentary tours of the first floor of the Callaway family home and walks through the historic gardens. Executive Director Carleton Wood will also be offering his fresh-squeezed homemade lemonade at the Pool Terrace beginning at 11am while supplies last. Please arrive no later than 3pm to have time to see the house and garden. That evening\, the Donald Davis Storytelling Workshop participants will hold a public storytelling in the Pecan Grove at 7pm. This is also free to the public\, and guests are encouraged to bring chairs or blankets. For more information regarding these events\, please visit our website\, email info@hillsanddales.org\, or call (706) 882-3242.
X-ALT-DESC;FMTTYPE=text/html:On Wednesday\, July 15\, we will be celebrating Fuller Callaway Sr.&rsquo\;s 156th birthday with complimentary tours of the first floor of the Callaway family home and walks through the historic gardens. Executive Director Carleton Wood will also be offering his fresh-squeezed homemade lemonade at the Pool Terrace beginning at 11am while supplies last. Please arrive no later than 3pm to have time to see the house and garden. That evening\, the Donald Davis Storytelling Workshop participants will hold a public storytelling in the Pecan Grove at 7pm. This is also free to the public\, and guests are encouraged to bring chairs or blankets. For more information regarding these events\, please visit our website\, email info@hillsanddales.org\, or call (706) 882-3242.
LOCATION:Hills & Dales Estate 1916 Hills & Dales Drive
UID:e.1275.13086
SEQUENCE:3
DTSTAMP:20260423T151313Z
URL:https://business.lagrangechamber.com/events/details/founder-s-day-celebration-storytelling-07-15-2026-13086
END:VEVENT

END:VCALENDAR
