BEGIN:VCALENDAR
VERSION:2.0
PRODID:-//ChamberMaster//Event Calendar 2.0//EN
METHOD:PUBLISH
X-PUBLISHED-TTL:P3D
REFRESH-INTERVAL:P3D
CALSCALE:GREGORIAN
BEGIN:VEVENT
DTSTART:20260418T140000Z
DTEND:20260418T190000Z
X-MICROSOFT-CDO-ALLDAYEVENT:FALSE
SUMMARY:Hillside Art\, Music & Food Festival
DESCRIPTION:The festival will be held in the historic Hillside neighborhood Saturday April 18\, '26 10am-3pm. Elia Baltes and Jeff Wright\, organizers with the Hillside Business Committee\, say: the event was created by DASH for LaGrange and led by residents with local merchants\, that are passionate about locally created art\, music and food! More about DASH www.dashlagrange.org. Entering its sixth year\, in 2019 the festival had nearly forty-five vendors\, a musical line-up\, some of the best restaurants and over 300 festival goers and even more expected this year\, Elia says: "The Hillside Festival offers opportunities to experience the new Hillside community\, be entertained by music\, grab a bite to eat and purchase a beautiful piece of artwork or handmade item. Maggie McDonald with Pure Life House of Music will be bringing some of the local talent\, such as Michael Conrad Johnson\, Dogwood Dream\, Otter Men\, the Pure Life team and more surprises! Vendor application contact: hillsideartfestival@yahoo.com Sponsorships available
X-ALT-DESC;FMTTYPE=text/html:The festival will be held in the historic Hillside neighborhood Saturday April 18\, &#39\;26 10am-3pm. Elia Baltes and Jeff Wright\, organizers with the Hillside Business Committee\, say: the event was created by DASH for LaGrange and led by residents with local merchants\, that are passionate about locally created art\, music and food! More about DASH www.dashlagrange.org. Entering its sixth year\, in 2019 the festival had nearly forty-five vendors\, a musical line-up\, some of the best restaurants and over 300 festival goers and even more expected this year\, Elia says: &quot\;The Hillside Festival offers opportunities to experience the new Hillside community\, be entertained by music\, grab a bite to eat and purchase a beautiful piece of artwork or handmade item. Maggie McDonald with Pure Life House of Music will be bringing some of the local talent\, such as Michael Conrad Johnson\, Dogwood Dream\, Otter Men\, the Pure Life team and more surprises! Vendor application contact: hillsideartfestival@yahoo.com Sponsorships available
LOCATION:Historic Hillside Neighborhood\, Garfield\, Lincoln\, and Lincoln Streets\, LaGrange\, Ga
UID:e.1275.13126
SEQUENCE:3
DTSTAMP:20260423T103640Z
URL:https://business.lagrangechamber.com/events/details/hillside-art-music-food-festival-04-18-2026-13126
END:VEVENT

END:VCALENDAR
