BEGIN:VCALENDAR
VERSION:2.0
PRODID:-//ChamberMaster//Event Calendar 2.0//EN
METHOD:PUBLISH
X-PUBLISHED-TTL:P3D
REFRESH-INTERVAL:P3D
CALSCALE:GREGORIAN
BEGIN:VEVENT
DTSTART;VALUE=DATE:20261022
DTEND;VALUE=DATE:20261026
TRANSP:TRANSPARENT
X-MICROSOFT-CDO-ALLDAYEVENT:TRUE
SUMMARY:LaGrange College 2026 Homecoming
DESCRIPTION:LaGrange College 2026 Homecoming Celebration reunions\, golf\, play\, sports\, band party at Overlook Plaza on Friday
X-ALT-DESC;FMTTYPE=text/html:LaGrange College 2026 Homecoming Celebration reunions\, golf\, play\, sports\, band party at Overlook Plaza on Friday
LOCATION:LaGrange College campus and downtown
UID:e.1275.13078
SEQUENCE:3
DTSTAMP:20260423T202528Z
URL:https://business.lagrangechamber.com/events/details/lagrange-college-2026-homecoming-13078
END:VEVENT

END:VCALENDAR
