BEGIN:VCALENDAR
VERSION:2.0
PRODID:-//ChamberMaster//Event Calendar 2.0//EN
METHOD:PUBLISH
X-PUBLISHED-TTL:P3D
REFRESH-INTERVAL:P3D
CALSCALE:GREGORIAN
BEGIN:VEVENT
DTSTART:20220108T180000Z
DTEND:20220108T190000Z
X-MICROSOFT-CDO-ALLDAYEVENT:FALSE
SUMMARY:MLK Parade: We're In This Together
DESCRIPTION:For more information please email Yvonne Pittman at zeta7ysp@yahoo.com or 706-616-2484.
X-ALT-DESC;FMTTYPE=text/html:<br />\n<span style="font-size:14px\;"><span style="font-family:verdana\;">For more information please email Yvonne Pittman at zeta7ysp@yahoo.com or 706-616-2484.</span></span>
LOCATION:Beginning at Sweetland Amphitheatre
UID:e.1275.10631
SEQUENCE:3
DTSTAMP:20260419T144957Z
URL:https://business.lagrangechamber.com/events/details/mlk-parade-we-re-in-this-together-10631
END:VEVENT

END:VCALENDAR
