BEGIN:VCALENDAR
VERSION:2.0
PRODID:-//ChamberMaster//Event Calendar 2.0//EN
METHOD:PUBLISH
X-PUBLISHED-TTL:P3D
REFRESH-INTERVAL:P3D
CALSCALE:GREGORIAN
BEGIN:VEVENT
DTSTART:20260709T180000Z
DTEND:20260709T190000Z
X-MICROSOFT-CDO-ALLDAYEVENT:FALSE
SUMMARY:Pizza is a Perk--Not a Strategy
DESCRIPTION:This one-hour webinar provides supervisors\, managers\, and owners with the systems and tools to hire and retain engaged employees by increasing employee engagement with the team and company. Quit using "free pizza" as the way to entice good behavior and employee satisfaction. Retention and performance are always built through culture and management\, not giveaways. Date: Thursday\, July 9\, 2026 Time: 2:00pm to 3:00pm Cost: $29 Registration: https://ugasbdc.training/columbus/0815-002 Contact Brandy Offenback at boffenback@georgiasbdc.org or 706-569-2651.
X-ALT-DESC;FMTTYPE=text/html:This one-hour webinar provides supervisors\, managers\, and owners with the systems and tools to hire and retain engaged employees by increasing employee engagement with the team and company. Quit using &quot\;free pizza&quot\; as the way to entice good behavior and employee satisfaction. Retention and performance are always built through culture and management\, not giveaways. Date: Thursday\, July 9\, 2026 Time: 2:00pm to 3:00pm Cost: $29 Registration: https://ugasbdc.training/columbus/0815-002 Contact Brandy Offenback at boffenback@georgiasbdc.org or 706-569-2651.
LOCATION:UGA SBDC Online Webinars
UID:e.1275.13155
SEQUENCE:3
DTSTAMP:20260423T150353Z
URL:https://business.lagrangechamber.com/events/details/pizza-is-a-perk-not-a-strategy-07-09-2026-13155
END:VEVENT

END:VCALENDAR
