BEGIN:VCALENDAR
VERSION:2.0
PRODID:-//ChamberMaster//Event Calendar 2.0//EN
METHOD:PUBLISH
X-PUBLISHED-TTL:P3D
REFRESH-INTERVAL:P3D
CALSCALE:GREGORIAN
BEGIN:VEVENT
DTSTART:20190617T134500Z
DTEND:20190628T164500Z
X-MICROSOFT-CDO-ALLDAYEVENT:FALSE
SUMMARY:Swimming classes
DESCRIPTION:Swim classes for all ages and levels. Visit website for more information. Classes will be offered for different ages and levels. Visit the website for more information.https://www.lagrange.edu/alumni/resources-and-facilities/hudson-natatorium/swim-lessons.html
X-ALT-DESC;FMTTYPE=text/html:Swim classes for all ages and levels. Visit website for more information. Classes will be offered for different ages and levels. Visit the website for more information.https://www.lagrange.edu/alumni/resources-and-facilities/hudson-natatorium/swim-lessons.html
LOCATION:Hudson Natatorium\, LaGrange College
UID:e.1275.5204
SEQUENCE:3
DTSTAMP:20260425T111742Z
URL:https://business.lagrangechamber.com/events/details/swimming-classes-06-17-2019-5204
END:VEVENT

END:VCALENDAR
