BEGIN:VCALENDAR
VERSION:2.0
PRODID:-//ChamberMaster//Event Calendar 2.0//EN
METHOD:PUBLISH
X-PUBLISHED-TTL:P3D
REFRESH-INTERVAL:P3D
CALSCALE:GREGORIAN
BEGIN:VEVENT
DTSTART:20260530T140000Z
DTEND:20260530T160000Z
X-MICROSOFT-CDO-ALLDAYEVENT:FALSE
SUMMARY:The Buzz on Bees with Dick and Sydney Daniel
DESCRIPTION:About 65 years after Fuller Jr. ended his apiary at Hills & Dales\, Dick and Sydney Daniel and Zachary Taylor brought beehives back to the estate. In this workshop\, Dick and Sydney will teach you the basics of beekeeping. Participants will be able to see an observation hive and even taste a little local honey. $45 per person. Pre-registration required by May 25. No refund for cancellations after May 26. Workshop fees include supplies and refreshments. Members may register for Spring workshops on January 2. Spring registration for non-members begins January 9. Call (706) 882-3242 or email info@hillsanddales.org to register. Pre-payment is required. Annual members receive a 20% discount unless otherwise noted.
X-ALT-DESC;FMTTYPE=text/html:About 65 years after Fuller Jr. ended his apiary at Hills &amp\; Dales\, Dick and Sydney Daniel and Zachary Taylor brought beehives back to the estate. In this workshop\, Dick and Sydney will teach you the basics of beekeeping. Participants will be able to see an observation hive and even taste a little local honey. $45 per person. Pre-registration required by May 25. No refund for cancellations after May 26. Workshop fees include supplies and refreshments. Members may register for Spring workshops on January 2. Spring registration for non-members begins January 9. Call (706) 882-3242 or email info@hillsanddales.org to register. Pre-payment is required. Annual members receive a 20% discount unless otherwise noted.
LOCATION:Hills & Dales Estate 1916 Hills & Dales Drive
UID:e.1275.13085
SEQUENCE:3
DTSTAMP:20260423T133759Z
URL:https://business.lagrangechamber.com/events/details/the-buzz-on-bees-with-dick-and-sydney-daniel-13085
END:VEVENT

END:VCALENDAR
