BEGIN:VCALENDAR
VERSION:2.0
PRODID:-//ChamberMaster//Event Calendar 2.0//EN
METHOD:PUBLISH
X-PUBLISHED-TTL:P3D
REFRESH-INTERVAL:P3D
CALSCALE:GREGORIAN
BEGIN:VEVENT
DTSTART:20260502T190000Z
DTEND:20260502T203000Z
X-MICROSOFT-CDO-ALLDAYEVENT:FALSE
SUMMARY:Trivia Night (Afternoon)
DESCRIPTION:Join us for Trivia Night (afternoon) from 3:00 to 4:30. Topics will include Bible knowledge and pop culture tidbits (1950's-2000's). Emcee will be Brian Green of Greenie's Pit. Snacks and drinks will be available. Teams of three will compete for prizes. Please register by April 28 via email to skeeladvent@gmail.com
X-ALT-DESC;FMTTYPE=text/html:Join us for Trivia Night (afternoon) from 3:00 to 4:30. Topics will include Bible knowledge and pop culture tidbits (1950&#39\;s-2000&#39\;s). Emcee will be Brian Green of Greenie&#39\;s Pit. Snacks and drinks will be available. Teams of three will compete for prizes. Please register by April 28 via email to skeeladvent@gmail.com
LOCATION:Advent Lutheran Church 1416 Vernon Street LaGrange\, GA 30240
UID:e.1275.13156
SEQUENCE:3
DTSTAMP:20260422T192436Z
URL:https://business.lagrangechamber.com/events/details/trivia-night-afternoon-13156
END:VEVENT

END:VCALENDAR
