BEGIN:VCALENDAR
VERSION:2.0
PRODID:-//ChamberMaster//Event Calendar 2.0//EN
METHOD:PUBLISH
X-PUBLISHED-TTL:P3D
REFRESH-INTERVAL:P3D
CALSCALE:GREGORIAN
BEGIN:VEVENT
DTSTART:20260411T140000Z
DTEND:20260411T160000Z
X-MICROSOFT-CDO-ALLDAYEVENT:FALSE
SUMMARY:Why Natives? with Tina Eturralde
DESCRIPTION:Including native plants into your garden makes a significant\, positive impact on wildlife\, climate\, and even people. In this workshop\, Horticulturist Tina Eturralde will teach the many benefits of native plants and how to grow them successfully. Each participant will go home with an informational handout and a native plant to help get you started. $45 per person. Pre-registration is required by April 6. No refunds for cancellations after April 7. Workshop fees include supplies and refreshments. Members may register for Spring workshops on January 2. Spring registration for non-members begins January 9. Call (706) 882-3242 or email info@hillsanddales.org to register. Pre-payment is required. Annual members receive a 20% discount unless otherwise noted.
X-ALT-DESC;FMTTYPE=text/html:Including native plants into your garden makes a significant\, positive impact on wildlife\, climate\, and even people. In this workshop\, Horticulturist Tina Eturralde will teach the many benefits of native plants and how to grow them successfully. Each participant will go home with an informational handout and a native plant to help get you started. $45 per person. Pre-registration is required by April 6. No refunds for cancellations after April 7. Workshop fees include supplies and refreshments. Members may register for Spring workshops on January 2. Spring registration for non-members begins January 9. Call (706) 882-3242 or email info@hillsanddales.org to register. Pre-payment is required. Annual members receive a 20% discount unless otherwise noted.
LOCATION:Hills & Dales Estate 1916 Hills & Dales Drive
UID:e.1275.13083
SEQUENCE:3
DTSTAMP:20260423T103021Z
URL:https://business.lagrangechamber.com/events/details/why-natives-with-tina-eturralde-13083
END:VEVENT

END:VCALENDAR
